BEGIN:VCALENDAR
VERSION:2.0
PRODID:ShowClix//ShowClix//EN
BEGIN:VTIMEZONE
TZID:America/Vancouver
BEGIN:DAYLIGHT
DTSTART:20220313T100000
TZOFFSETFROM:-0800
TZOFFSETTO:-0700
TZNAME:PDT
END:DAYLIGHT
BEGIN:STANDARD
DTSTART:20221106T090000
TZOFFSETFROM:-0700
TZOFFSETTO:-0800
TZNAME:PST
END:STANDARD
END:VTIMEZONE
BEGIN:VEVENT
DTSTART;TZID=America/Vancouver:20211201T200000
SUMMARY:LIVE NATION PRESENTS: John Craigie #KeepItWarm2021 Tour with special guest Kassi Valazza
DESCRIPTION:Show details available at https://embed.admitonelive.com/event/john-craigie-vancouver-7305254
LOCATION:Imperial 
GEO:49.281796;-123.100104
END:VEVENT
END:VCALENDAR
