BEGIN:VCALENDAR
VERSION:2.0
PRODID:ShowClix//ShowClix//EN
BEGIN:VTIMEZONE
TZID:America/Vancouver
BEGIN:STANDARD
DTSTART:20221106T090000
TZOFFSETFROM:-0700
TZOFFSETTO:-0800
TZNAME:PST
END:STANDARD
BEGIN:DAYLIGHT
DTSTART:20230312T100000
TZOFFSETFROM:-0800
TZOFFSETTO:-0700
TZNAME:PDT
END:DAYLIGHT
END:VTIMEZONE
BEGIN:VEVENT
DTSTART;TZID=America/Vancouver:20220528T190000
SUMMARY:Just For Laughs Vancouver in association with SiriusXM presents: Marc Maron: This May Be The Last Time 
DESCRIPTION:Show details available at https://embed.admitonelive.com/event/marc-maron-vancouver-7683621
LOCATION:Vogue Theatre
GEO:49.279815;-123.121658
END:VEVENT
END:VCALENDAR
