BEGIN:VCALENDAR
VERSION:2.0
PRODID:ShowClix//ShowClix//EN
BEGIN:VTIMEZONE
TZID:America/Vancouver
BEGIN:STANDARD
DTSTART:20221106T090000
TZOFFSETFROM:-0700
TZOFFSETTO:-0800
TZNAME:PST
END:STANDARD
BEGIN:DAYLIGHT
DTSTART:20230312T100000
TZOFFSETFROM:-0800
TZOFFSETTO:-0700
TZNAME:PDT
END:DAYLIGHT
END:VTIMEZONE
BEGIN:VEVENT
DTSTART;TZID=America/Vancouver:20220422T210000
SUMMARY:LIVE NATION PRESENTS: Peach Pit: From 2 to 3 Tour
DESCRIPTION:Show details available at https://embed.admitonelive.com/event/peach-pit-victoria-7634414
LOCATION:Capital Ballroom
GEO:48.426103;-123.360221
END:VEVENT
END:VCALENDAR
