BEGIN:VCALENDAR
VERSION:2.0
PRODID:ShowClix//ShowClix//EN
BEGIN:VTIMEZONE
TZID:America/Toronto
BEGIN:STANDARD
DTSTART:20231105T060000
TZOFFSETFROM:-0400
TZOFFSETTO:-0500
TZNAME:EST
END:STANDARD
BEGIN:DAYLIGHT
DTSTART:20240310T070000
TZOFFSETFROM:-0500
TZOFFSETTO:-0400
TZNAME:EDT
END:DAYLIGHT
END:VTIMEZONE
BEGIN:VEVENT
DTSTART;TZID=America/Toronto:20230423T160000
SUMMARY:MRG Live Presents: Depths of Wikipedia LIVE
DESCRIPTION:Show details available at https://embed.admitonelive.com/event/the-depths-of-wikipedia-live-toronto-8846214
LOCATION:The Royal
GEO:43.655268;-79.414853
END:VEVENT
END:VCALENDAR
